BEGIN:VCALENDAR
VERSION:2.0
PRODID:-//International Auction - Encan International
BEGIN:VTIMEZONE
TZID:America/New_York
BEGIN:DAYLIGHT
TZOFFSETFROM:-0500
TZOFFSETTO:-0400
TZNAME:EDT
DTSTART:19700308T020000
RRULE:FREQ=YEARLY;BYMONTH=3;BYDAY=2SU
END:DAYLIGHT
BEGIN:STANDARD
TZOFFSETFROM:-0400
TZOFFSETTO:-0500
TZNAME:EST
DTSTART:19701101T020000
RRULE:FREQ=YEARLY;BYMONTH=11;BYDAY=1SU
END:STANDARD
END:VTIMEZONE
BEGIN:VEVENT
UID:event-69e79eba2a755
DTSTAMP:20260421T155850
DTSTART;TZID=America/New_York:20260424T090000
DTEND;TZID=America/New_York:20260424T170000
SUMMARY:International Auction - Encan International
DESCRIPTION:Nous payons les plus gros montants en argent pour l’or\, l’argent\, les objets de collection et tout autre objet de valeur!
LOCATION:FIRST UNITED CHURCH | MUSQUODOBOIT HARBOUR - 7964 - HIGHWAY 7 (BEHIND THE OLD SCHOOL COMMUNITY PLACE) - B0J 2L0
URL:https://event.internationalauction.ca/en/152-1/
ORGANIZER:MAILTO:International Auction - Encan International
ATTENDEE;RSVP=TRUE:MAILTO:
END:VEVENT
END:VCALENDAR
 