BEGIN:VCALENDAR
VERSION:2.0
PRODID:-//International Auction - Encan International
BEGIN:VTIMEZONE
TZID:America/New_York
BEGIN:DAYLIGHT
TZOFFSETFROM:-0500
TZOFFSETTO:-0400
TZNAME:EDT
DTSTART:19700308T020000
RRULE:FREQ=YEARLY;BYMONTH=3;BYDAY=2SU
END:DAYLIGHT
BEGIN:STANDARD
TZOFFSETFROM:-0400
TZOFFSETTO:-0500
TZNAME:EST
DTSTART:19701101T020000
RRULE:FREQ=YEARLY;BYMONTH=11;BYDAY=1SU
END:STANDARD
END:VTIMEZONE
BEGIN:VEVENT
UID:event-69e79f250d637
DTSTAMP:20260421T160037
DTSTART;TZID=America/New_York:20260514T090000
DTEND;TZID=America/New_York:20260514T170000
SUMMARY:International Auction - Encan International
DESCRIPTION:Nous payons les plus gros montants en argent pour l’or\, l’argent\, les objets de collection et tout autre objet de valeur!
LOCATION:CENTRE DE L'AMITIÉ | LA BROQUERIE - 97 PRINCIPALE STREET (CORNER OF NORMANDEAU BAY) - R3X 1C7
URL:https://event.internationalauction.ca/en/163-3/
ORGANIZER:MAILTO:International Auction - Encan International
ATTENDEE;RSVP=TRUE:MAILTO:
END:VEVENT
END:VCALENDAR
 